BEGIN:VCALENDAR
METHOD:PUBLISH
VERSION:2.0
CALSCALE:GREGORIAN
PRODID:-//NONSGML Sandhills Development\, LLC//NONSGML Sugar Calendar Fe
 eds v3.6.1//EN
X-WR-CALNAME:Volunteer Meeting for Kids Musical Day Camp
X-WR-CALDESC:Rock Chapel - Love God. Love Others. Grow in Grace.
X-WR-TIMEZONE:America/New_York
BEGIN:VTIMEZONE
TZID:America/New_York
BEGIN:STANDARD
TZOFFSETFROM:-0400
TZOFFSETTO:-0500
DTSTART:20241103T060000
TZNAME:EST
END:STANDARD
BEGIN:DAYLIGHT
TZOFFSETFROM:-0500
TZOFFSETTO:-0400
DTSTART:20250309T070000
TZNAME:EDT
END:DAYLIGHT
END:VTIMEZONE
BEGIN:VTIMEZONE
TZID:America/New_York
BEGIN:STANDARD
TZOFFSETFROM:-0400
TZOFFSETTO:-0500
DTSTART:20241103T060000
TZNAME:EST
END:STANDARD
BEGIN:DAYLIGHT
TZOFFSETFROM:-0500
TZOFFSETTO:-0400
DTSTART:20250309T070000
TZNAME:EDT
END:DAYLIGHT
END:VTIMEZONE
BEGIN:VEVENT
SUMMARY:Volunteer Meeting for Kids Musical Day Camp
DESCRIPTION:Join us for a Volunteers Meeting for our Summer Musical Day 
 Camp! Discover how you can help kids shine through music\, drama\, and f
 un. We’ll share details\, answer questions\, and get ready for an unfo
 rgettable camp. All are welcome—bring your enthusiasm!
URL;VALUE=URI:https://rockchapel.org/events/volunteer-meeting-for-kids-m
 usical-day-camp/
UID:urn:uuid:40a84fdd-b5f3-4fd1-8238-11ed9ced2cd8
STATUS:CONFIRMED
ORGANIZER:
DTSTAMP:20260422T171626Z
DTSTART;TZID=America/New_York:20250415T180000
DTEND;TZID=America/New_York:20250415T190000
END:VEVENT
END:VCALENDAR