BEGIN:VCALENDAR
METHOD:PUBLISH
VERSION:2.0
CALSCALE:GREGORIAN
PRODID:-//NONSGML Sandhills Development\, LLC//NONSGML Sugar Calendar Fe
 eds v3.6.1//EN
X-WR-CALNAME:Volleyball Game & Cookout
X-WR-CALDESC:Rock Chapel - Love God. Love Others. Grow in Grace.
X-WR-TIMEZONE:America/New_York
BEGIN:VTIMEZONE
TZID:America/New_York
BEGIN:DAYLIGHT
TZOFFSETFROM:-0500
TZOFFSETTO:-0400
DTSTART:20250309T070000
TZNAME:EDT
END:DAYLIGHT
END:VTIMEZONE
BEGIN:VTIMEZONE
TZID:America/New_York
BEGIN:DAYLIGHT
TZOFFSETFROM:-0500
TZOFFSETTO:-0400
DTSTART:20250309T070000
TZNAME:EDT
END:DAYLIGHT
END:VTIMEZONE
BEGIN:VEVENT
SUMMARY:Volleyball Game & Cookout
DESCRIPTION:Bring your family and friends for a fun evening of volleybal
 l\, food\, and fellowship! We’ll fire up the grill\, enjoy a relaxed c
 ookout together\, and hit the court for some friendly volleyball games. 
 Whether you’re a seasoned player or just want to cheer from the sideli
 nes\, this will be a great time to connect\, laugh\, and enjoy an evenin
 g together.
URL;VALUE=URI:https://rockchapel.org/events/volleyball-game-cookout/
UID:urn:uuid:502ad95e-5352-4d26-b30d-6cc65cae2c57
STATUS:CONFIRMED
ORGANIZER:
DTSTAMP:20260420T105535Z
DTSTART;TZID=America/New_York:20250831T180000
DTEND;TZID=America/New_York:20250831T200000
END:VEVENT
END:VCALENDAR