BEGIN:VCALENDAR
METHOD:PUBLISH
VERSION:2.0
CALSCALE:GREGORIAN
PRODID:-//NONSGML Sandhills Development\, LLC//NONSGML Sugar Calendar Fe
 eds v3.6.1//EN
X-WR-CALNAME:Security Team Meeting
X-WR-CALDESC:Rock Chapel - Love God. Love Others. Grow in Grace.
X-WR-TIMEZONE:America/New_York
BEGIN:VTIMEZONE
TZID:America/New_York
BEGIN:DAYLIGHT
TZOFFSETFROM:-0500
TZOFFSETTO:-0400
DTSTART:20250309T070000
TZNAME:EDT
END:DAYLIGHT
END:VTIMEZONE
BEGIN:VTIMEZONE
TZID:America/New_York
BEGIN:DAYLIGHT
TZOFFSETFROM:-0500
TZOFFSETTO:-0400
DTSTART:20250309T070000
TZNAME:EDT
END:DAYLIGHT
END:VTIMEZONE
BEGIN:VEVENT
SUMMARY:Security Team Meeting
DESCRIPTION:We’re forming a new Security Team to help keep our church 
 family safe and cared for during services and events. If you’d like to
  learn more about this important ministry\, join us for our upcoming Sec
 urity Team Interest Meeting. We’ll share the vision for the team\, exp
 lain the responsibilities involved\, and give you an opportunity to sign
  up to serve. Whether you have prior experience or simply a willing hear
 t\, we’d love for you to come and see how you can be part of this vita
 l ministry.
URL;VALUE=URI:https://rockchapel.org/events/security-team-meeting/
UID:urn:uuid:5a8001a4-57ea-4863-9b82-cb3d1ff2583d
STATUS:CONFIRMED
ORGANIZER:
DTSTAMP:20260420T080256Z
DTSTART;TZID=America/New_York:20250831T090000
DTEND;TZID=America/New_York:20250831T093000
LOCATION:49 N Main St
END:VEVENT
END:VCALENDAR