BEGIN:VCALENDAR
METHOD:PUBLISH
VERSION:2.0
CALSCALE:GREGORIAN
PRODID:-//NONSGML Sandhills Development\, LLC//NONSGML Sugar Calendar Fe
 eds v3.6.1//EN
X-WR-CALNAME:Men's Hike & Lunch
X-WR-CALDESC:Rock Chapel - Love God. Love Others. Grow in Grace.
X-WR-TIMEZONE:America/New_York
BEGIN:VTIMEZONE
TZID:America/New_York
BEGIN:DAYLIGHT
TZOFFSETFROM:-0400
TZOFFSETTO:-0400
DTSTART:20250314T210000
TZNAME:EDT
END:DAYLIGHT
END:VTIMEZONE
BEGIN:VTIMEZONE
TZID:America/New_York
BEGIN:DAYLIGHT
TZOFFSETFROM:-0400
TZOFFSETTO:-0400
DTSTART:20250314T210000
TZNAME:EDT
END:DAYLIGHT
END:VTIMEZONE
BEGIN:VEVENT
SUMMARY:Men's Hike & Lunch
DESCRIPTION:Join us for a great afternoon of fellowship\, fresh air\, an
 d adventure as we head out for a men’s hike at Bakers Mountain in Hick
 ory\, NC.\n\nTogether we’ll enjoy the beauty of God’s creation\, get
  some exercise\, and build deeper connections along the trail. After the
  hike\, we’ll head out for lunch to relax\, refuel\, and continue the 
 conversation. This is a perfect opportunity to step away from the routin
 e\, strengthen friendships\, and encourage one another in faith.
URL;VALUE=URI:https://rockchapel.org/events/mens-hike-lunch/
UID:urn:uuid:aea10f55-5352-44f6-8214-632db099fb87
STATUS:CONFIRMED
ORGANIZER:
DTSTAMP:20260420T092735Z
DTSTART;TZID=America/New_York:20250913T090000
DTEND;TZID=America/New_York:20250913T120000
LOCATION:6680 Bakers Mountain Rd
END:VEVENT
END:VCALENDAR