BEGIN:VCALENDAR
METHOD:PUBLISH
VERSION:2.0
CALSCALE:GREGORIAN
PRODID:-//NONSGML Sandhills Development\, LLC//NONSGML Sugar Calendar Fe
 eds v3.6.1//EN
X-WR-CALNAME:Men's Breakfast at Bojangles (Granite Falls)
X-WR-CALDESC:Rock Chapel - Love God. Love Others. Grow in Grace.
X-WR-TIMEZONE:America/New_York
BEGIN:VTIMEZONE
TZID:America/New_York
BEGIN:STANDARD
TZOFFSETFROM:-0400
TZOFFSETTO:-0500
DTSTART:20241103T060000
TZNAME:EST
END:STANDARD
END:VTIMEZONE
BEGIN:VTIMEZONE
TZID:America/New_York
BEGIN:STANDARD
TZOFFSETFROM:-0400
TZOFFSETTO:-0500
DTSTART:20241103T060000
TZNAME:EST
END:STANDARD
END:VTIMEZONE
BEGIN:VEVENT
SUMMARY:Men's Breakfast at Bojangles (Granite Falls)
DESCRIPTION:Men\, join us for breakfast and meaningful fellowship as we 
 gather to encourage one another in faith. This is a great time to connec
 t\, share\, and grow. Come hungry for good food and great community!
URL;VALUE=URI:https://rockchapel.org/events/mens-breakfast-at-bojangles-
 granite-falls/
UID:urn:uuid:f5b6133a-ffda-4570-a97d-d1804f3b581b
STATUS:CONFIRMED
ORGANIZER:
DTSTAMP:20260422T163722Z
DTSTART;TZID=America/New_York:20250222T083000
DTEND;TZID=America/New_York:20250222T093000
END:VEVENT
END:VCALENDAR