BEGIN:VCALENDAR
METHOD:PUBLISH
VERSION:2.0
CALSCALE:GREGORIAN
PRODID:-//NONSGML Sandhills Development\, LLC//NONSGML Sugar Calendar Fe
 eds v3.6.1//EN
X-WR-CALNAME:Kids' Day Out
X-WR-CALDESC:Rock Chapel - Love God. Love Others. Grow in Grace.
X-WR-TIMEZONE:America/New_York
BEGIN:VTIMEZONE
TZID:America/New_York
BEGIN:STANDARD
TZOFFSETFROM:-0400
TZOFFSETTO:-0500
DTSTART:20241103T060000
TZNAME:EST
END:STANDARD
END:VTIMEZONE
BEGIN:VTIMEZONE
TZID:America/New_York
BEGIN:STANDARD
TZOFFSETFROM:-0400
TZOFFSETTO:-0500
DTSTART:20241103T060000
TZNAME:EST
END:STANDARD
END:VTIMEZONE
BEGIN:VEVENT
SUMMARY:Kids' Day Out
DESCRIPTION:A fun-filled day just for kids! Join us for a special Valent
 ineâ€™s event with crafts\, games\, and a delicious lunch. Kids will enj
 oy creating festive projects\, making new friends\, and celebrating Godâ
 €™s love in a joyful and engaging way. Parents\, enjoy a little break wh
 ile your kids have a blast!
URL;VALUE=URI:https://rockchapel.org/events/kids-day-out/
UID:urn:uuid:f1b12a61-25b4-41cf-8d1a-194330c1cb69
STATUS:CONFIRMED
ORGANIZER:
DTSTAMP:20260422T171631Z
DTSTART;TZID=America/New_York:20250216T113000
DTEND;TZID=America/New_York:20250216T123000
END:VEVENT
END:VCALENDAR