BEGIN:VCALENDAR
METHOD:PUBLISH
VERSION:2.0
CALSCALE:GREGORIAN
PRODID:-//NONSGML Sandhills Development\, LLC//NONSGML Sugar Calendar Fe
 eds v3.6.1//EN
X-WR-CALNAME:Hymn Sing
X-WR-CALDESC:Rock Chapel - Love God. Love Others. Grow in Grace.
X-WR-TIMEZONE:America/New_York
BEGIN:VTIMEZONE
TZID:America/New_York
BEGIN:DAYLIGHT
TZOFFSETFROM:-0500
TZOFFSETTO:-0400
DTSTART:20250309T070000
TZNAME:EDT
END:DAYLIGHT
END:VTIMEZONE
BEGIN:VTIMEZONE
TZID:America/New_York
BEGIN:DAYLIGHT
TZOFFSETFROM:-0500
TZOFFSETTO:-0400
DTSTART:20250309T070000
TZNAME:EDT
END:DAYLIGHT
END:VTIMEZONE
BEGIN:VEVENT
SUMMARY:Hymn Sing
DESCRIPTION:Come join us for a special evening of worship as we lift our
  voices together in a good old-fashioned hymn sing! You’ll have the ch
 ance to call out your favorite hymns\, enjoy special music\, and hear po
 werful testimonies of God’s work in people’s lives. It will be a nig
 ht filled with joy\, fellowship\, and the encouragement that comes when 
 God’s people gather to sing His praise and share His goodness.
URL;VALUE=URI:https://rockchapel.org/events/hymn-sing/
UID:urn:uuid:f1013bb5-d607-4acc-9eeb-9613d432e0bd
STATUS:CONFIRMED
ORGANIZER:
DTSTAMP:20260420T122611Z
DTSTART;TZID=America/New_York:20250831T170000
DTEND;TZID=America/New_York:20250831T180000
LOCATION:49 N Main St
END:VEVENT
END:VCALENDAR