BEGIN:VCALENDAR
METHOD:PUBLISH
VERSION:2.0
CALSCALE:GREGORIAN
PRODID:-//NONSGML Sandhills Development\, LLC//NONSGML Sugar Calendar Fe
 eds v3.6.1//EN
X-WR-CALNAME:Fall Fellowship Night
X-WR-CALDESC:Rock Chapel - Love God. Love Others. Grow in Grace.
X-WR-TIMEZONE:America/New_York
BEGIN:VTIMEZONE
TZID:America/New_York
BEGIN:DAYLIGHT
TZOFFSETFROM:-0400
TZOFFSETTO:-0400
DTSTART:20250322T050000
TZNAME:EDT
END:DAYLIGHT
END:VTIMEZONE
BEGIN:VTIMEZONE
TZID:America/New_York
BEGIN:DAYLIGHT
TZOFFSETFROM:-0400
TZOFFSETTO:-0400
DTSTART:20250322T050000
TZNAME:EDT
END:DAYLIGHT
END:VTIMEZONE
BEGIN:VEVENT
SUMMARY:Fall Fellowship Night
DESCRIPTION:Come celebrate the season with an evening of fun\, food\, an
 d fellowship! We’ll have volleyball\, games for the kids\, and plenty 
 of time to connect with one another. Everyone is encouraged to bring a s
 oup\, chili\, and/or dessert to share—let’s enjoy a cozy meal togeth
 er while making great memories. Bring the whole family and invite a frie
 nd for this special night of community!
URL;VALUE=URI:https://rockchapel.org/events/fall-fellowship-night/
UID:urn:uuid:831ac716-bab3-49c3-a051-e49e67b828ce
STATUS:CONFIRMED
ORGANIZER:
DTSTAMP:20260420T063239Z
DTSTART;TZID=America/New_York:20250920T170000
DTEND;TZID=America/New_York:20250920T200000
END:VEVENT
END:VCALENDAR